BEGIN:VCALENDAR
VERSION:2.0
PRODID:-//Basketbola klubs &quot;Jelgava&quot; - ECPv5.2.0//NONSGML v1.0//EN
CALSCALE:GREGORIAN
METHOD:PUBLISH
X-WR-CALNAME:Basketbola klubs &quot;Jelgava&quot;
X-ORIGINAL-URL:https://bkjelgava.lv
X-WR-CALDESC:Events for Basketbola klubs &quot;Jelgava&quot;
BEGIN:VTIMEZONE
TZID:Europe/Moscow
BEGIN:STANDARD
TZOFFSETFROM:+0300
TZOFFSETTO:+0300
TZNAME:MSK
DTSTART:20190101T000000
END:STANDARD
END:VTIMEZONE
BEGIN:VEVENT
DTSTART;TZID=Europe/Moscow:20190905T200000
DTEND;TZID=Europe/Moscow:20190905T220000
DTSTAMP:20260421T031102
CREATED:20190821T110010Z
LAST-MODIFIED:20190821T110010Z
UID:14687-1567713600-1567720800@bkjelgava.lv
SUMMARY:BK Jelgava/LLU atvērtais treniņš
DESCRIPTION:
URL:https://bkjelgava.lv/kalendars/bk-jelgava-llu-atvertais-trenins-2/
LOCATION:Jelgavas Sporta halle\, Mātera iela 44A\, Jelgava\, Latvija
END:VEVENT
END:VCALENDAR